BEGIN:VCALENDAR
VERSION:2.0
PRODID:-//hacksw/handcal//NONSGML v1.0//EN
BEGIN:VEVENT
SUMMARY:Seances Multisports FOA Valognes
UID:f5d65399-33bc-4134-9239-1dd5c5450962
DTSTART:20260108T140000Z
DTEND:20260108T150000Z
LOCATION:Localisation   
CATEGORIES:Sportif
STATUS:
URL;VALUE=URI:https://amhcotentin.sportsregions.fr/evenements/2026/01/08/seances-multisports-foa-valognes-2430635
END:VEVENT
END:VCALENDAR
