BEGIN:VCALENDAR
VERSION:2.0
PRODID:-//hacksw/handcal//NONSGML v1.0//EN
BEGIN:VEVENT
SUMMARY:Seances Multisports FOA Valognes
UID:8b4fde6d-5111-4366-81d0-957152a08233
DTSTART:20260115T140000Z
DTEND:20260115T150000Z
LOCATION:Localisation   
CATEGORIES:Sportif
STATUS:
URL;VALUE=URI:https://amhcotentin.sportsregions.fr/evenements/2026/01/15/seances-multisports-foa-valognes-2430636
END:VEVENT
END:VCALENDAR
