BEGIN:VCALENDAR
VERSION:2.0
PRODID:-//hacksw/handcal//NONSGML v1.0//EN
BEGIN:VEVENT
SUMMARY:Seances Multisports FOA Valognes
UID:3f68656f-a371-4d15-b169-26d26b63a3a9
DTSTART:20260122T140000Z
DTEND:20260122T150000Z
LOCATION:Localisation   
CATEGORIES:Sportif
STATUS:
URL;VALUE=URI:https://amhcotentin.sportsregions.fr/evenements/2026/01/22/seances-multisports-foa-valognes-2430637
END:VEVENT
END:VCALENDAR
