BEGIN:VCALENDAR
VERSION:2.0
PRODID:-//hacksw/handcal//NONSGML v1.0//EN
BEGIN:VEVENT
SUMMARY:Seances Multisports FOA Valognes
UID:918fbbbf-2522-4da8-bc18-2e7640a17a13
DTSTART:20260129T140000Z
DTEND:20260129T150000Z
LOCATION:Localisation   
CATEGORIES:Sportif
STATUS:
URL;VALUE=URI:https://amhcotentin.sportsregions.fr/evenements/2026/01/29/seances-multisports-foa-valognes-2430638
END:VEVENT
END:VCALENDAR
