BEGIN:VCALENDAR
VERSION:2.0
PRODID:-//hacksw/handcal//NONSGML v1.0//EN
BEGIN:VEVENT
SUMMARY:Seances Multisports FOA Valognes
UID:a6536ad9-2d81-4864-8662-b457832830f3
DTSTART:20260212T140000Z
DTEND:20260212T150000Z
LOCATION:Localisation   
CATEGORIES:Sportif
STATUS:
URL;VALUE=URI:https://amhcotentin.sportsregions.fr/evenements/2026/02/12/seances-multisports-foa-valognes-2430623
END:VEVENT
END:VCALENDAR
