BEGIN:VCALENDAR
VERSION:2.0
PRODID:-//hacksw/handcal//NONSGML v1.0//EN
BEGIN:VEVENT
SUMMARY:rendez vous Mairie Beaumont
UID:25bf904d-5253-410e-8560-e1d758a526c8
DTSTART:20260223T140000Z
DTEND:20260223T150000Z
LOCATION:Localisation   
CATEGORIES:Sportif
STATUS:
URL;VALUE=URI:https://amhcotentin.sportsregions.fr/evenements/2026/02/23/rendez-vous-mairie-beaumont-2404192
END:VEVENT
END:VCALENDAR
