BEGIN:VCALENDAR
VERSION:2.0
PRODID:-//hacksw/handcal//NONSGML v1.0//EN
BEGIN:VEVENT
SUMMARY:Entrainement Rugby XIII Fauteuil
UID:0d62fdd0-c546-4ef2-8af2-60466d91d6da
DTSTART:20260305T190000Z
DTEND:20260305T203000Z
LOCATION:Localisation   
CATEGORIES:Sportif
STATUS:
URL;VALUE=URI:https://amhcotentin.sportsregions.fr/evenements/2026/03/05/entrainement-rugby-xiii-fauteuil-2426818
END:VEVENT
END:VCALENDAR
