BEGIN:VCALENDAR
VERSION:2.0
PRODID:-//hacksw/handcal//NONSGML v1.0//EN
BEGIN:VEVENT
SUMMARY:SILVER XIII "Sport Sante Equilibre"
UID:e8e41e83-6bc4-4432-9de6-e4784a388959
DTSTART:20260307T130000Z
DTEND:20260307T140000Z
LOCATION:Localisation Gymnase de l'amont quentin 104 avenue de Normandie 50130 Cherbourg-en-Cotentin
CATEGORIES:Sportif
STATUS:
URL;VALUE=URI:https://amhcotentin.sportsregions.fr/evenements/2026/03/07/silver-xiii-sport-sante-equilibre-2423206
END:VEVENT
END:VCALENDAR
