BEGIN:VCALENDAR
VERSION:2.0
PRODID:-//hacksw/handcal//NONSGML v1.0//EN
BEGIN:VEVENT
SUMMARY:Matchs Rugby XIII Fauteuil a Nantes
UID:30813b91-24cc-4333-93c3-d529b0afcc4f
DTSTART:20260308T130000Z
DTEND:20260308T160000Z
LOCATION:Localisation 1 Impasse Philippe Touzot 44850 Saint Mars du Desert
CATEGORIES:Sportif
STATUS:
URL;VALUE=URI:https://amhcotentin.sportsregions.fr/evenements/2026/03/08/matchs-rugby-xiii-fauteuil-a-nantes-2423234
END:VEVENT
END:VCALENDAR
