BEGIN:VCALENDAR
VERSION:2.0
PRODID:-//hacksw/handcal//NONSGML v1.0//EN
BEGIN:VEVENT
SUMMARY:SILVER XIII "Sport Sante Equilibre" (Clic Cherbourg)
UID:8469c654-f8d4-4a4b-ba42-50b16234195f
DTSTART:20260310T133000Z
DTEND:20260310T143000Z
LOCATION:Localisation Chemin de la Crespiniere 50130 Cherbourg-en-Cotentin
CATEGORIES:Sportif
STATUS:
URL;VALUE=URI:https://amhcotentin.sportsregions.fr/evenements/2026/03/10/silver-xiii-sport-sante-equilibre-clic-cherbourg-2426827
END:VEVENT
END:VCALENDAR
