BEGIN:VCALENDAR
VERSION:2.0
PRODID:-//hacksw/handcal//NONSGML v1.0//EN
BEGIN:VEVENT
SUMMARY:Seances Multisports FOA Valognes
UID:3e387947-f2e4-4bea-b362-4aa021c7eaa6
DTSTART:20260312T140000Z
DTEND:20260312T150000Z
LOCATION:Localisation   
CATEGORIES:Sportif
STATUS:
URL;VALUE=URI:https://amhcotentin.sportsregions.fr/evenements/2026/03/12/seances-multisports-foa-valognes-2430620
END:VEVENT
END:VCALENDAR
