BEGIN:VCALENDAR
VERSION:2.0
PRODID:-//hacksw/handcal//NONSGML v1.0//EN
BEGIN:VEVENT
SUMMARY:Entrainement Rugby XIII Fauteuil
UID:6400f420-cc7e-428f-9f2b-1ef90b0a31a3
DTSTART:20260313T190000Z
DTEND:20260313T203000Z
LOCATION:Localisation Chemin de la Crespiniere, Octeville 50130 Cherbourg en Cotentin
CATEGORIES:Entrainement
STATUS:
URL;VALUE=URI:https://amhcotentin.sportsregions.fr/evenements/2026/03/13/entrainement-rugby-xiii-fauteuil-2426815
END:VEVENT
END:VCALENDAR
