BEGIN:VCALENDAR
VERSION:2.0
PRODID:-//hacksw/handcal//NONSGML v1.0//EN
BEGIN:VEVENT
SUMMARY:Handisport
UID:19b2b50e-ac3c-44de-a956-2abccc2a7326
DTSTART:20260314T141500Z
DTEND:20260314T151500Z
LOCATION:Localisation Gymnase de l'amont quentin 104 avenue de Normandie 50130 Cherbourg-en-Cotentin
CATEGORIES:Sportif
STATUS:
URL;VALUE=URI:https://amhcotentin.sportsregions.fr/evenements/2026/03/14/handisport-2426817
END:VEVENT
END:VCALENDAR
