BEGIN:VCALENDAR
VERSION:2.0
PRODID:-//hacksw/handcal//NONSGML v1.0//EN
BEGIN:VEVENT
SUMMARY:Sensibilisation au Lycee Littre d'Avranches
UID:a66ddc2a-80ce-45f3-98b5-cd8cb6bf30e7
DTSTART:20260317T080000Z
DTEND:20260317T160000Z
LOCATION:Localisation Boulevard Louis Pasteur, 50300 Avranches
CATEGORIES:Manifestation
STATUS:
URL;VALUE=URI:https://amhcotentin.sportsregions.fr/evenements/2026/03/17/sensibilisation-au-lycee-littre-davranches-2426001
END:VEVENT
END:VCALENDAR
