BEGIN:VCALENDAR
VERSION:2.0
PRODID:-//hacksw/handcal//NONSGML v1.0//EN
BEGIN:VEVENT
SUMMARY:Seances Multisports FOA Valognes
UID:f899a322-da6b-4ef6-952b-09e62eb11004
DTSTART:20260319T140000Z
DTEND:20260319T150000Z
LOCATION:Localisation   
CATEGORIES:Sportif
STATUS:
URL;VALUE=URI:https://amhcotentin.sportsregions.fr/evenements/2026/03/19/seances-multisports-foa-valognes-2430618
END:VEVENT
END:VCALENDAR
