BEGIN:VCALENDAR
VERSION:2.0
PRODID:-//hacksw/handcal//NONSGML v1.0//EN
BEGIN:VEVENT
SUMMARY:Entrainement Rugby XIII Fauteuil
UID:6016f367-2d03-47b9-85f9-4255fea88f23
DTSTART:20260320T190000Z
DTEND:20260320T203000Z
LOCATION:Localisation   
CATEGORIES:Sportif
STATUS:
URL;VALUE=URI:https://amhcotentin.sportsregions.fr/evenements/2026/03/20/entrainement-rugby-xiii-fauteuil-2426822
END:VEVENT
END:VCALENDAR
