BEGIN:VCALENDAR
VERSION:2.0
PRODID:-//hacksw/handcal//NONSGML v1.0//EN
BEGIN:VEVENT
SUMMARY:SILVER XIII "Sport Sante Equilibre"
UID:bf737e57-5e59-49ea-abd6-9d736efc0966
DTSTART:20260321T130000Z
DTEND:20260321T140000Z
LOCATION:Localisation Gymnase de l'amont quentin 104 avenue de Normandie 50130 Cherbourg-en-Cotentin
CATEGORIES:Sportif
STATUS:
URL;VALUE=URI:https://amhcotentin.sportsregions.fr/evenements/2026/03/21/silver-xiii-sport-sante-equilibre-2430610
END:VEVENT
END:VCALENDAR
