BEGIN:VCALENDAR
VERSION:2.0
PRODID:-//hacksw/handcal//NONSGML v1.0//EN
BEGIN:VEVENT
SUMMARY:Sensibilisation ecole de Villedieu-les-Poeles
UID:b3dcf5ed-8668-41e6-9eba-79e857b6945f
DTSTART:20260323T070000Z
DTEND:20260323T160000Z
LOCATION:Localisation   
CATEGORIES:Manifestation
STATUS:
URL;VALUE=URI:https://amhcotentin.sportsregions.fr/evenements/2026/03/23/sensibilisation-ecole-de-villedieu-les-poeles-2430654
END:VEVENT
END:VCALENDAR
