BEGIN:VCALENDAR
VERSION:2.0
PRODID:-//hacksw/handcal//NONSGML v1.0//EN
BEGIN:VEVENT
SUMMARY:Seances Multisports FOA Valognes
UID:00634af5-a415-4862-86a2-3b25d6226c51
DTSTART:20260326T140000Z
DTEND:20260326T150000Z
LOCATION:Localisation   
CATEGORIES:Sportif
STATUS:
URL;VALUE=URI:https://amhcotentin.sportsregions.fr/evenements/2026/03/26/seances-multisports-foa-valognes-2430616
END:VEVENT
END:VCALENDAR
