BEGIN:VCALENDAR
VERSION:2.0
PRODID:-//hacksw/handcal//NONSGML v1.0//EN
BEGIN:VEVENT
SUMMARY:Entrainement Rugby XIII Fauteuil
UID:193a9e8a-cbf0-4afc-8f4f-1d018b8e0a57
DTSTART:20260327T190000Z
DTEND:20260327T203000Z
LOCATION:Localisation   
CATEGORIES:Sportif
STATUS:
URL;VALUE=URI:https://amhcotentin.sportsregions.fr/evenements/2026/03/27/entrainement-rugby-xiii-fauteuil-2426819
END:VEVENT
END:VCALENDAR
