BEGIN:VCALENDAR
VERSION:2.0
PRODID:-//hacksw/handcal//NONSGML v1.0//EN
BEGIN:VEVENT
SUMMARY:Match para hockey Cherbourg - Cleon / Franconville
UID:10257f45-aecc-4a09-88c7-601658afdb23
DTSTART:20260328T164500Z
DTEND:20260328T190000Z
LOCATION:Localisation Boulevard Georges Clemenceau 78200 Mantes-la-Jolie
CATEGORIES:Sportif
STATUS:
URL;VALUE=URI:https://amhcotentin.sportsregions.fr/evenements/2026/03/28/match-para-hockey-cherbourg-cleon-franconville-2422650
END:VEVENT
END:VCALENDAR
