BEGIN:VCALENDAR
VERSION:2.0
PRODID:-//hacksw/handcal//NONSGML v1.0//EN
BEGIN:VEVENT
SUMMARY:SILVER XIII "Sport Sante Equilibre"
UID:93aa4f09-664c-47ad-9b18-73656367370b
DTSTART:20260328T130000Z
DTEND:20260328T140000Z
LOCATION:Localisation Gymnase de l'amont quentin 104 avenue de Normandie 50130 Cherbourg-en-Cotentin
CATEGORIES:Sportif
STATUS:
URL;VALUE=URI:https://amhcotentin.sportsregions.fr/evenements/2026/03/28/silver-xiii-sport-sante-equilibre-2432857
END:VEVENT
END:VCALENDAR
