BEGIN:VCALENDAR
VERSION:2.0
PRODID:-//hacksw/handcal//NONSGML v1.0//EN
BEGIN:VEVENT
SUMMARY:Initiation et decouverte activites Handisports Teurtheville-Hague
UID:1184735b-d3bb-4cc2-bc33-155ce82f31d3
DTSTART:20260331T113000Z
DTEND:20260331T143000Z
LOCATION:Localisation   
CATEGORIES:Sportif
STATUS:
URL;VALUE=URI:https://amhcotentin.sportsregions.fr/evenements/2026/03/31/initiation-et-decouverte-activites-handisports-teurtheville-hague-2433815
END:VEVENT
END:VCALENDAR
