BEGIN:VCALENDAR
VERSION:2.0
PRODID:-//hacksw/handcal//NONSGML v1.0//EN
BEGIN:VEVENT
SUMMARY:Match de Gala Les Homards du Cotentin / Invictus Games
UID:3ac676e3-7111-4758-85a8-9fc8f049d91f
DTSTART:20260402T163000Z
DTEND:20260402T183000Z
LOCATION:Localisation Gymnase Nordez, 36, avenue Henri Poincare 50100 Cherbourg en Cotentin
CATEGORIES:Caritatif
STATUS:
URL;VALUE=URI:https://amhcotentin.sportsregions.fr/evenements/2026/04/02/match-de-gala-les-homards-du-cotentin-invictus-games-2425983
END:VEVENT
END:VCALENDAR
