BEGIN:VCALENDAR
VERSION:2.0
PRODID:-//hacksw/handcal//NONSGML v1.0//EN
BEGIN:VEVENT
SUMMARY:Entrainement Rugby XIII Fauteuil
UID:5010dc64-d8c8-4a5e-96a9-bb80da4577cb
DTSTART:20260403T180000Z
DTEND:20260403T193000Z
LOCATION:Localisation   
CATEGORIES:Sportif
STATUS:
URL;VALUE=URI:https://amhcotentin.sportsregions.fr/evenements/2026/04/03/entrainement-rugby-xiii-fauteuil-2426821
END:VEVENT
END:VCALENDAR
