BEGIN:VCALENDAR
VERSION:2.0
PRODID:-//hacksw/handcal//NONSGML v1.0//EN
BEGIN:VEVENT
SUMMARY:Entrainement Rugby XIII Fauteuil
UID:37555d73-e9dd-4034-bd24-11c361c25ec8
DTSTART:20260410T180000Z
DTEND:20260410T193000Z
LOCATION:Localisation   
CATEGORIES:Sportif
STATUS:
URL;VALUE=URI:https://amhcotentin.sportsregions.fr/evenements/2026/04/10/entrainement-rugby-xiii-fauteuil-2426820
END:VEVENT
END:VCALENDAR
