BEGIN:VCALENDAR
VERSION:2.0
PRODID:-//hacksw/handcal//NONSGML v1.0//EN
BEGIN:VEVENT
SUMMARY:Handisport
UID:de518e7b-7311-42ca-bf43-3f2a6af33ff2
DTSTART:20260411T131500Z
DTEND:20260411T141500Z
LOCATION:Localisation   
CATEGORIES:Sportif
STATUS:
URL;VALUE=URI:https://amhcotentin.sportsregions.fr/evenements/2026/04/11/handisport-2439860
END:VEVENT
END:VCALENDAR
