BEGIN:VCALENDAR
VERSION:2.0
PRODID:-//hacksw/handcal//NONSGML v1.0//EN
BEGIN:VEVENT
SUMMARY:SILVER XIII "Sport Sante Equilibre"
UID:528012e8-0ae7-42b2-ac55-f4bfb26a6982
DTSTART:20260411T120000Z
DTEND:20260411T130000Z
LOCATION:Localisation Gymnase de l'amont quentin 104 avenue de Normandie 50130 Cherbourg-en-Cotentin
CATEGORIES:Sportif
STATUS:
URL;VALUE=URI:https://amhcotentin.sportsregions.fr/evenements/2026/04/11/silver-xiii-sport-sante-equilibre-2439859
END:VEVENT
END:VCALENDAR
