BEGIN:VCALENDAR
VERSION:2.0
PRODID:-//hacksw/handcal//NONSGML v1.0//EN
BEGIN:VEVENT
SUMMARY:Intervention projet EDHEC SAINT-VAAST-LA-HOUGUE
UID:99bdd18e-6e9a-4bbc-a7b6-54fa7486a86d
DTSTART:20260422T070000Z
DTEND:20260422T150000Z
LOCATION:Localisation   
CATEGORIES:Manifestation
STATUS:
URL;VALUE=URI:https://amhcotentin.sportsregions.fr/evenements/2026/04/22/intervention-projet-edhec-saint-vaast-la-hougue-2434240
END:VEVENT
END:VCALENDAR
