BEGIN:VCALENDAR
VERSION:2.0
PRODID:-//hacksw/handcal//NONSGML v1.0//EN
BEGIN:VEVENT
SUMMARY:Match para hockey Neuilly / Cherbourg - Cleon
UID:84fb9738-4e9b-429b-bd51-2cfcd73c4de1
DTSTART:20260425T163000Z
DTEND:20260425T180000Z
LOCATION:Localisation Avenue Leon Blum 93330 Neuilly sur Marne
CATEGORIES:Sportif
STATUS:
URL;VALUE=URI:https://amhcotentin.sportsregions.fr/evenements/2026/04/25/match-para-hockey-neuilly-cherbourg-cleon-2430640
END:VEVENT
END:VCALENDAR
