BEGIN:VCALENDAR
VERSION:2.0
PRODID:-//hacksw/handcal//NONSGML v1.0//EN
BEGIN:VEVENT
SUMMARY:Carre final championnat de France para hockey sur Glace
UID:1452874a-a372-4115-9476-4b2c9375de4a
DTSTART:20260516T070000Z
DTEND:20260517T150000Z
LOCATION:Localisation   
CATEGORIES:Sportif
STATUS:
URL;VALUE=URI:https://amhcotentin.sportsregions.fr/evenements/2026/05/16/carre-final-championnat-de-france-para-hockey-sur-glace-2432489
END:VEVENT
END:VCALENDAR
