BEGIN:VCALENDAR
VERSION:2.0
PRODID:-//hacksw/handcal//NONSGML v1.0//EN
BEGIN:VEVENT
SUMMARY:SILVER XIII "Sport Sante Equilibre" (Clic Quettehou)
UID:648a823c-09ba-4170-90eb-a49ce9d391a0
DTSTART:20260522T113000Z
DTEND:20260522T134500Z
LOCATION:Localisation Maison des associations 15 rue du stade 50630 Quettehou
CATEGORIES:Entrainement
STATUS:
URL;VALUE=URI:https://amhcotentin.sportsregions.fr/evenements/2026/05/22/silver-xiii-sport-sante-equilibre-clic-quettehou-2439249
END:VEVENT
END:VCALENDAR
