BEGIN:VCALENDAR
VERSION:2.0
PRODID:-//hacksw/handcal//NONSGML v1.0//EN
BEGIN:VEVENT
SUMMARY:SILVER XIII "Sport Sante Equilibre" (Clic Quettehou)
UID:87cb96d4-e1e3-4a30-b4c0-310ade2c0099
DTSTART:20260529T113000Z
DTEND:20260529T134500Z
LOCATION:Localisation Maison des associations 15 rue du stade 50630 Quettehou
CATEGORIES:Sportif
STATUS:
URL;VALUE=URI:https://amhcotentin.sportsregions.fr/evenements/2026/05/29/silver-xiii-sport-sante-equilibre-clic-quettehou-2439250
END:VEVENT
END:VCALENDAR
