BEGIN:VCALENDAR
VERSION:2.0
PRODID:-//hacksw/handcal//NONSGML v1.0//EN
BEGIN:VEVENT
SUMMARY:Open Boccia inter-departemental (50 et 61) a Saint-Hilaire-du-Harcouet
UID:358ffcd0-d441-445d-a1cf-5609a83662b3
DTSTART:20260617T070000Z
DTEND:20260617T150000Z
LOCATION:Localisation   
CATEGORIES:Sportif
STATUS:
URL;VALUE=URI:https://amhcotentin.sportsregions.fr/evenements/2026/06/17/open-boccia-inter-departemental-50-et-61-a-saint-hilaire-du-harcouet-2434241
END:VEVENT
END:VCALENDAR
