BEGIN:VCALENDAR
VERSION:2.0
PRODID:-//hacksw/handcal//NONSGML v1.0//EN
BEGIN:VEVENT
SUMMARY:Tournee Olympique et Paralympique 2026 La Hague
UID:caba891a-fd97-4267-ab9a-824d90a4c184
DTSTART:20260618T073000Z
DTEND:20260618T140000Z
LOCATION:Localisation Stade Maurice Soulage 50440 Beaumont-Hague
CATEGORIES:Sportif
STATUS:
URL;VALUE=URI:https://amhcotentin.sportsregions.fr/evenements/2026/06/18/tournee-olympique-et-paralympique-2026-la-hague-2434243
END:VEVENT
END:VCALENDAR
