BEGIN:VCALENDAR
VERSION:2.0
PRODID:-//hacksw/handcal//NONSGML v1.0//EN
BEGIN:VEVENT
SUMMARY:Animation college Periers
UID:1f2d7ada-cb59-47f3-a7f4-3fb6d2f209a8
DTSTART:20260622T060000Z
DTEND:20260622T150000Z
LOCATION:Localisation   
CATEGORIES:Sportif
STATUS:
URL;VALUE=URI:https://amhcotentin.sportsregions.fr/evenements/2026/06/22/animation-college-periers-2429945
END:VEVENT
END:VCALENDAR
