BEGIN:VCALENDAR
VERSION:2.0
PRODID:-//hacksw/handcal//NONSGML v1.0//EN
BEGIN:VEVENT
SUMMARY:Journee Olympique et Paralympique 2026 Barneville
UID:4f18f41b-2699-4b0f-b1ab-6bbac972e741
DTSTART:20260623T074500Z
DTEND:20260623T134500Z
LOCATION:Localisation Place du Terminus, 50270 Barneville-Carteret
CATEGORIES:Manifestation
STATUS:
URL;VALUE=URI:https://amhcotentin.sportsregions.fr/evenements/2026/06/23/journee-olympique-et-paralympique-2026-barneville-2434244
END:VEVENT
END:VCALENDAR
