BEGIN:VCALENDAR
VERSION:2.0
PRODID:-//hacksw/handcal//NONSGML v1.0//EN
BEGIN:VEVENT
SUMMARY:Journee Olympique et Paralympique 2026 St Hilaire du Harcouet
UID:1ca39449-a7e5-442a-b6c0-7f61d04adef6
DTSTART:20260624T073000Z
DTEND:20260624T140000Z
LOCATION:Localisation Stade Municipal La Vieille Garde 50600 Saint-Hilaire-du-Harcouet
CATEGORIES:Manifestation
STATUS:
URL;VALUE=URI:https://amhcotentin.sportsregions.fr/evenements/2026/06/24/journee-olympique-et-paralympique-2026-st-hilaire-du-harcouet-2434245
END:VEVENT
END:VCALENDAR
